BEGIN:VCALENDAR
VERSION:2.0
PRODID:-//Chesham Allotments - ECPv6.1.3//NONSGML v1.0//EN
CALSCALE:GREGORIAN
METHOD:PUBLISH
X-ORIGINAL-URL:https://cheshamallotments.org.uk
X-WR-CALDESC:Events for Chesham Allotments
REFRESH-INTERVAL;VALUE=DURATION:PT1H
X-Robots-Tag:noindex
X-PUBLISHED-TTL:PT1H
BEGIN:VTIMEZONE
TZID:UTC
BEGIN:STANDARD
TZOFFSETFROM:+0000
TZOFFSETTO:+0000
TZNAME:UTC
DTSTART:20260101T000000
END:STANDARD
END:VTIMEZONE
BEGIN:VEVENT
DTSTART;TZID=UTC:20260509T190000
DTEND;TZID=UTC:20260509T220000
DTSTAMP:20260424T160338
CREATED:20260124T124358Z
LAST-MODIFIED:20260124T124358Z
UID:4146-1778353200-1778364000@cheshamallotments.org.uk
SUMMARY:Spring Social 2026
DESCRIPTION:Stay tuned for more details of our first social event for 2026. Details will be available in Feb/March\, so save the date
URL:https://cheshamallotments.org.uk/event/spring-social-2026/
LOCATION:Chesham Town Hall
CATEGORIES:Other events
END:VEVENT
END:VCALENDAR