BEGIN:VCALENDAR
VERSION:2.0
PRODID:-//Chesham Allotments - ECPv6.1.3//NONSGML v1.0//EN
CALSCALE:GREGORIAN
METHOD:PUBLISH
X-ORIGINAL-URL:https://cheshamallotments.org.uk
X-WR-CALDESC:Events for Chesham Allotments
REFRESH-INTERVAL;VALUE=DURATION:PT1H
X-Robots-Tag:noindex
X-PUBLISHED-TTL:PT1H
BEGIN:VTIMEZONE
TZID:UTC
BEGIN:STANDARD
TZOFFSETFROM:+0000
TZOFFSETTO:+0000
TZNAME:UTC
DTSTART:20220101T000000
END:STANDARD
END:VTIMEZONE
BEGIN:VEVENT
DTSTART;TZID=UTC:20260307T100000
DTEND;TZID=UTC:20260307T120000
DTSTAMP:20260424T195753
CREATED:20241122T154323Z
LAST-MODIFIED:20260127T162344Z
UID:4244-1772877600-1772884800@cheshamallotments.org.uk
SUMMARY:Potato sales 2026
DESCRIPTION:Chesham Vale Gardeners’ Society (CVGS) will be selling a selection of seed potatoes\, onion sets and shallots\, plus an assortment of other gardening items. \nYou’ll find the trading hut close to the allotment cafe at Cameron Road. \nPlease note that you need to be a member of CVGS to make a purchase. Annual membership is £3. \nVolunteers from CVGS will run the cafe this weekend.
URL:https://cheshamallotments.org.uk/event/potato-sales-2026-7-march/
LOCATION:Allotment Cafe\, Cameron Road
CATEGORIES:Coffee Morning,Other events
ATTACH;FMTTYPE=image/jpeg:https://cheshamallotments.org.uk/wp-content/uploads/potatoes-in-hands-web.jpg
ORGANIZER;CN="Chesham%20Allotments%20Group%20in%20association%20with%20Chesham%20Vale%20Gardeners%27%20Society":MAILTO:cheshamallotments@gmail.com
END:VEVENT
BEGIN:VEVENT
DTSTART;TZID=UTC:20220820T100000
DTEND;TZID=UTC:20220820T120000
DTSTAMP:20260424T195753
CREATED:20220121T181532Z
LAST-MODIFIED:20220122T130936Z
UID:3520-1660989600-1660996800@cheshamallotments.org.uk
SUMMARY:Coffee Morning - NB change of venue
DESCRIPTION:This week\, we’re back to our Asheridge Road site\, with great homemade cake\, washed down with tea or coffee. \nAnd all for just £1! \nJoin us between 1000 and 1200\, between April and October and don’t forget to bring your families and friends along.
URL:https://cheshamallotments.org.uk/event/coffee-morning-3-2-2-3-2-2-2-2-2-2-2-2/
LOCATION:Asheridge Road allotments
CATEGORIES:Coffee Morning
ATTACH;FMTTYPE=image/jpeg:https://cheshamallotments.org.uk/wp-content/uploads/asheridge-road-allotments.jpg
END:VEVENT
BEGIN:VEVENT
DTSTART;TZID=UTC:20220723T100000
DTEND;TZID=UTC:20220723T120000
DTSTAMP:20260424T195753
CREATED:20220724T084742Z
LAST-MODIFIED:20220724T084758Z
UID:3746-1658570400-1658577600@cheshamallotments.org.uk
SUMMARY:Coffee morning
DESCRIPTION:Great views\, great homemade cakes and the tea and coffee aren’t that bad\, either. \nWhere else can you get a cuppa and cake for £1 in Chesham? \nJoin us on Saturday mornings between 1000 and 1200\, between April and October. Bring your families and friends along.
URL:https://cheshamallotments.org.uk/event/coffee-morning-5/
LOCATION:Allotment Cafe\, Cameron Road
CATEGORIES:Coffee Morning
END:VEVENT
BEGIN:VEVENT
DTSTART;TZID=UTC:20220716T100000
DTEND;TZID=UTC:20220716T120000
DTSTAMP:20260424T195753
CREATED:20220724T084836Z
LAST-MODIFIED:20220724T084836Z
UID:3748-1657965600-1657972800@cheshamallotments.org.uk
SUMMARY:Coffee morning
DESCRIPTION:Great views\, great homemade cakes and the tea and coffee aren’t that bad\, either. \nWhere else can you get a cuppa and cake for £1 in Chesham? \nJoin us on Saturday mornings between 1000 and 1200\, between April and October. Bring your families and friends along.
URL:https://cheshamallotments.org.uk/event/coffee-morning-6/
LOCATION:Allotment Cafe\, Cameron Road
CATEGORIES:Coffee Morning
END:VEVENT
BEGIN:VEVENT
DTSTART;TZID=UTC:20220702T100000
DTEND;TZID=UTC:20220702T120000
DTSTAMP:20260424T195753
CREATED:20220624T084922Z
LAST-MODIFIED:20220724T085033Z
UID:3752-1656756000-1656763200@cheshamallotments.org.uk
SUMMARY:Coffee morning
DESCRIPTION:Great views\, great homemade cakes and the tea and coffee aren’t that bad\, either. \nWhere else can you get a cuppa and cake for £1 in Chesham? \nJoin us on Saturday mornings between 1000 and 1200\, between April and October. Bring your families and friends along.
URL:https://cheshamallotments.org.uk/event/coffee-morning-7-2/
LOCATION:Allotment Cafe\, Cameron Road
CATEGORIES:Coffee Morning
END:VEVENT
BEGIN:VEVENT
DTSTART;TZID=UTC:20220625T100000
DTEND;TZID=UTC:20220625T120000
DTSTAMP:20260424T195753
CREATED:20220121T181532Z
LAST-MODIFIED:20220122T130410Z
UID:3515-1656151200-1656158400@cheshamallotments.org.uk
SUMMARY:Coffee Morning
DESCRIPTION:Great views\, great homemade cakes and the tea and coffee aren’t that bad\, either. \nWhere else can you get a cuppa and cake for £1 in Chesham? \nJoin us on Saturday mornings between 1000 and 1200\, between April and October. Bring your families and friends along.
URL:https://cheshamallotments.org.uk/event/coffee-morning-3-2-2-3-2-2-2-2-2-2/
LOCATION:Allotment Cafe\, Cameron Road
CATEGORIES:Coffee Morning
ATTACH;FMTTYPE=image/jpeg:https://cheshamallotments.org.uk/wp-content/uploads/IMG_6228.jpg
END:VEVENT
BEGIN:VEVENT
DTSTART;TZID=UTC:20220618T100000
DTEND;TZID=UTC:20220618T120000
DTSTAMP:20260424T195753
CREATED:20220121T181532Z
LAST-MODIFIED:20220122T130348Z
UID:3513-1655546400-1655553600@cheshamallotments.org.uk
SUMMARY:Coffee Morning
DESCRIPTION:Great views\, great homemade cakes and the tea and coffee aren’t that bad\, either. \nWhere else can you get a cuppa and cake for £1 in Chesham? \nJoin us on Saturday mornings between 1000 and 1200\, between April and October. Bring your families and friends along.
URL:https://cheshamallotments.org.uk/event/coffee-morning-3-2-2-3-2-2-2-2-2/
LOCATION:Allotment Cafe\, Cameron Road
CATEGORIES:Coffee Morning
ATTACH;FMTTYPE=image/jpeg:https://cheshamallotments.org.uk/wp-content/uploads/IMG_6228.jpg
END:VEVENT
BEGIN:VEVENT
DTSTART;TZID=UTC:20220611T100000
DTEND;TZID=UTC:20220611T120000
DTSTAMP:20260424T195753
CREATED:20220121T181532Z
LAST-MODIFIED:20220122T130318Z
UID:3511-1654941600-1654948800@cheshamallotments.org.uk
SUMMARY:Coffee Morning
DESCRIPTION:Great views\, great homemade cakes and the tea and coffee aren’t that bad\, either. \nWhere else can you get a cuppa and cake for £1 in Chesham? \nJoin us on Saturday mornings between 1000 and 1200\, between April and October. Bring your families and friends along.
URL:https://cheshamallotments.org.uk/event/coffee-morning-3-2-2-3-2-2-2-2/
LOCATION:Allotment Cafe\, Cameron Road
CATEGORIES:Coffee Morning
ATTACH;FMTTYPE=image/jpeg:https://cheshamallotments.org.uk/wp-content/uploads/IMG_6228.jpg
END:VEVENT
BEGIN:VEVENT
DTSTART;TZID=UTC:20220604T100000
DTEND;TZID=UTC:20220604T120000
DTSTAMP:20260424T195753
CREATED:20220121T181532Z
LAST-MODIFIED:20220122T130301Z
UID:3509-1654336800-1654344000@cheshamallotments.org.uk
SUMMARY:Coffee Morning
DESCRIPTION:Great views\, great homemade cakes and the tea and coffee aren’t that bad\, either. \nWhere else can you get a cuppa and cake for £1 in Chesham? \nJoin us on Saturday mornings between 1000 and 1200\, between April and October. Bring your families and friends along.
URL:https://cheshamallotments.org.uk/event/coffee-morning-3-2-2-3-2-2-2/
LOCATION:Allotment Cafe\, Cameron Road
CATEGORIES:Coffee Morning
ATTACH;FMTTYPE=image/jpeg:https://cheshamallotments.org.uk/wp-content/uploads/IMG_6228.jpg
END:VEVENT
BEGIN:VEVENT
DTSTART;TZID=UTC:20220528T100000
DTEND;TZID=UTC:20220528T120000
DTSTAMP:20260424T195753
CREATED:20220121T181532Z
LAST-MODIFIED:20220526T100731Z
UID:3517-1653732000-1653739200@cheshamallotments.org.uk
SUMMARY:Coffee Morning - Asheridge Road
DESCRIPTION:This week\, it’s a change of venue to our Asheridge Road site\, but still great homemade cake\, washed down with tea or coffee. \nAnd all for just £1! \nJoin us  between 1000 and 1200 at our Asheridge site\, between April and October and don’t forget to bring your families and friends along. \nNB: ACCESS IS VIA DEANSWAY AND HARRIES CLOSE
URL:https://cheshamallotments.org.uk/event/coffee-morning-3-2-2-3-2-2-2-2-2-2-2/
LOCATION:Asheridge Road allotments
CATEGORIES:Coffee Morning
ATTACH;FMTTYPE=image/jpeg:https://cheshamallotments.org.uk/wp-content/uploads/asheridge-road-allotments.jpg
END:VEVENT
BEGIN:VEVENT
DTSTART;TZID=UTC:20220521T100000
DTEND;TZID=UTC:20220521T120000
DTSTAMP:20260424T195753
CREATED:20220121T181532Z
LAST-MODIFIED:20220122T130243Z
UID:3507-1653127200-1653134400@cheshamallotments.org.uk
SUMMARY:Coffee Morning
DESCRIPTION:Great views\, great homemade cakes and the tea and coffee aren’t that bad\, either. \nWhere else can you get a cuppa and cake for £1 in Chesham? \nJoin us on Saturday mornings between 1000 and 1200\, between April and October. Bring your families and friends along.
URL:https://cheshamallotments.org.uk/event/coffee-morning-3-2-2-3-2-2/
LOCATION:Allotment Cafe\, Cameron Road
CATEGORIES:Coffee Morning
ATTACH;FMTTYPE=image/jpeg:https://cheshamallotments.org.uk/wp-content/uploads/IMG_6228.jpg
END:VEVENT
BEGIN:VEVENT
DTSTART;TZID=UTC:20220514T100000
DTEND;TZID=UTC:20220514T120000
DTSTAMP:20260424T195753
CREATED:20220121T181532Z
LAST-MODIFIED:20220122T130216Z
UID:3505-1652522400-1652529600@cheshamallotments.org.uk
SUMMARY:Coffee Morning
DESCRIPTION:Great views\, great homemade cakes and the tea and coffee aren’t that bad\, either. \nWhere else can you get a cuppa and cake for £1 in Chesham? \nJoin us on Saturday mornings between 1000 and 1200\, between April and October. Bring your families and friends along.
URL:https://cheshamallotments.org.uk/event/coffee-morning-3-2-2-3-2/
LOCATION:Allotment Cafe\, Cameron Road
CATEGORIES:Coffee Morning
ATTACH;FMTTYPE=image/jpeg:https://cheshamallotments.org.uk/wp-content/uploads/IMG_6228.jpg
END:VEVENT
BEGIN:VEVENT
DTSTART;TZID=UTC:20220507T100000
DTEND;TZID=UTC:20220507T120000
DTSTAMP:20260424T195753
CREATED:20220121T181532Z
LAST-MODIFIED:20220122T130157Z
UID:3503-1651917600-1651924800@cheshamallotments.org.uk
SUMMARY:Coffee Morning
DESCRIPTION:Great views\, great homemade cakes and the tea and coffee aren’t that bad\, either. \nWhere else can you get a cuppa and cake for £1 in Chesham? \nJoin us on Saturday mornings between 1000 and 1200\, between April and October. Bring your families and friends along.
URL:https://cheshamallotments.org.uk/event/coffee-morning-3-2-2-3/
LOCATION:Allotment Cafe\, Cameron Road
CATEGORIES:Coffee Morning
ATTACH;FMTTYPE=image/jpeg:https://cheshamallotments.org.uk/wp-content/uploads/IMG_6228.jpg
END:VEVENT
BEGIN:VEVENT
DTSTART;TZID=UTC:20220430T100000
DTEND;TZID=UTC:20220430T120000
DTSTAMP:20260424T195753
CREATED:20220121T181532Z
LAST-MODIFIED:20220122T130141Z
UID:3499-1651312800-1651320000@cheshamallotments.org.uk
SUMMARY:Coffee Morning
DESCRIPTION:Great views\, great homemade cakes and the tea and coffee aren’t that bad\, either. \nWhere else can you get a cuppa and cake for £1 in Chesham? \nJoin us on Saturday mornings between 1000 and 1200\, between April and October. Bring your families and friends along.
URL:https://cheshamallotments.org.uk/event/coffee-morning-3-2-2/
LOCATION:Allotment Cafe\, Cameron Road
CATEGORIES:Coffee Morning
ATTACH;FMTTYPE=image/jpeg:https://cheshamallotments.org.uk/wp-content/uploads/IMG_6228.jpg
END:VEVENT
BEGIN:VEVENT
DTSTART;TZID=UTC:20220423T100000
DTEND;TZID=UTC:20220423T120000
DTSTAMP:20260424T195753
CREATED:20220121T181532Z
LAST-MODIFIED:20220121T181532Z
UID:3502-1650708000-1650715200@cheshamallotments.org.uk
SUMMARY:Coffee Morning
DESCRIPTION:Great views\, great homemade cakes and the tea and coffee aren’t that bad\, either. \nWhere else can you get a cuppa and cake for £1 in Chesham? \nJoin us on Saturday mornings between 1000 and 1200\, between April and October. Bring your families and friends along.
URL:https://cheshamallotments.org.uk/event/coffee-morning-3-2-2-2/
LOCATION:Allotment Cafe\, Cameron Road
CATEGORIES:Coffee Morning
ATTACH;FMTTYPE=image/jpeg:https://cheshamallotments.org.uk/wp-content/uploads/IMG_6228.jpg
END:VEVENT
BEGIN:VEVENT
DTSTART;TZID=UTC:20220416T100000
DTEND;TZID=UTC:20220416T120000
DTSTAMP:20260424T195753
CREATED:20220121T181532Z
LAST-MODIFIED:20220121T181620Z
UID:3496-1650103200-1650110400@cheshamallotments.org.uk
SUMMARY:Coffee Morning
DESCRIPTION:Great views\, great homemade cakes and the tea and coffee aren’t that bad\, either. Where else can you get a cuppa and cake for £1 in Chesham? \nJoin us on Saturday mornings between 1000 and 1200\, between April and October. Bring your families and friends along.
URL:https://cheshamallotments.org.uk/event/coffee-morning-3-2/
LOCATION:Allotment Cafe\, Cameron Road
CATEGORIES:Coffee Morning
ATTACH;FMTTYPE=image/jpeg:https://cheshamallotments.org.uk/wp-content/uploads/IMG_6228.jpg
END:VEVENT
BEGIN:VEVENT
DTSTART;TZID=UTC:20220409T100000
DTEND;TZID=UTC:20220409T120000
DTSTAMP:20260424T195753
CREATED:20220121T181532Z
LAST-MODIFIED:20220121T181532Z
UID:3492-1649498400-1649505600@cheshamallotments.org.uk
SUMMARY:Coffee Morning
DESCRIPTION:Great views\, great homemade cakes and the tea and coffee aren’t that bad\, either. Where else can you get a cuppa and cake for £1 in Chesham? \nJoin us on Saturday mornings between 1000 and 1200\, between April and October. Bring your families and friends along.
URL:https://cheshamallotments.org.uk/event/coffee-morning-3/
LOCATION:Allotment Cafe\, Cameron Road
CATEGORIES:Coffee Morning
END:VEVENT
BEGIN:VEVENT
DTSTART;TZID=UTC:20220226T100000
DTEND;TZID=UTC:20220226T120000
DTSTAMP:20260424T195753
CREATED:20220120T183657Z
LAST-MODIFIED:20220204T165240Z
UID:3486-1645869600-1645876800@cheshamallotments.org.uk
SUMMARY:Potato sale and Coffee Morning
DESCRIPTION:The cafe will be open for a hot drink and a piece of cake for three Saturdays in February whilst the CVGS potato sales are on. \nIt’s just £1 for a cuppa and cake!
URL:https://cheshamallotments.org.uk/event/potato-sale-and-coffee-morning-2-2/
LOCATION:Allotment Cafe\, Cameron Road
CATEGORIES:Coffee Morning
ATTACH;FMTTYPE=image/jpeg:https://cheshamallotments.org.uk/wp-content/uploads/chocolate-cake.jpg
END:VEVENT
BEGIN:VEVENT
DTSTART;TZID=UTC:20220219T100000
DTEND;TZID=UTC:20220219T120000
DTSTAMP:20260424T195753
CREATED:20220120T183657Z
LAST-MODIFIED:20220204T165155Z
UID:3484-1645264800-1645272000@cheshamallotments.org.uk
SUMMARY:Potato sale and Coffee Morning
DESCRIPTION:The cafe will be open for a hot drink and a piece of cake for three Saturdays in February whilst the CVGS potato sales are on. \nIt’s just £1 for a cuppa and cake!
URL:https://cheshamallotments.org.uk/event/potato-sale-and-coffee-morning-2/
LOCATION:Allotment Cafe\, Cameron Road
CATEGORIES:Coffee Morning
END:VEVENT
BEGIN:VEVENT
DTSTART;TZID=UTC:20220212T100000
DTEND;TZID=UTC:20220212T120000
DTSTAMP:20260424T195753
CREATED:20220120T183657Z
LAST-MODIFIED:20220204T165036Z
UID:3482-1644660000-1644667200@cheshamallotments.org.uk
SUMMARY:Potato sale and Coffee Morning
DESCRIPTION:The cafe will be open for a hot drink and a piece of cake for three Saturdays in February whilst the CVGS potato sales are on. \nIt’s just £1 for a cuppa and cake!
URL:https://cheshamallotments.org.uk/event/potato-sale-and-coffee-morning/
LOCATION:Allotment Cafe\, Cameron Road
CATEGORIES:Coffee Morning
ATTACH;FMTTYPE=image/jpeg:https://cheshamallotments.org.uk/wp-content/uploads/chocolate-cake.jpg
END:VEVENT
END:VCALENDAR