BEGIN:VCALENDAR
VERSION:2.0
PRODID:-//Chesham Allotments - ECPv6.1.3//NONSGML v1.0//EN
CALSCALE:GREGORIAN
METHOD:PUBLISH
X-WR-CALNAME:Chesham Allotments
X-ORIGINAL-URL:https://cheshamallotments.org.uk
X-WR-CALDESC:Events for Chesham Allotments
REFRESH-INTERVAL;VALUE=DURATION:PT1H
X-Robots-Tag:noindex
X-PUBLISHED-TTL:PT1H
BEGIN:VTIMEZONE
TZID:UTC
BEGIN:STANDARD
TZOFFSETFROM:+0000
TZOFFSETTO:+0000
TZNAME:UTC
DTSTART:20260101T000000
END:STANDARD
END:VTIMEZONE
BEGIN:VEVENT
DTSTART;TZID=UTC:20260517T150000
DTEND;TZID=UTC:20260517T163000
DTSTAMP:20260425T155200
CREATED:20260124T124625Z
LAST-MODIFIED:20260126T162632Z
UID:4183-1779030000-1779035400@cheshamallotments.org.uk
SUMMARY:Afternoon Cafe
DESCRIPTION:
URL:https://cheshamallotments.org.uk/event/afternoon-cafe-17-may/
LOCATION:Allotment Cafe\, Cameron Road
ATTACH;FMTTYPE=image/jpeg:https://cheshamallotments.org.uk/wp-content/uploads/coffee-mornings-header-1.jpg
END:VEVENT
BEGIN:VEVENT
DTSTART;TZID=UTC:20260524T150000
DTEND;TZID=UTC:20260524T163000
DTSTAMP:20260425T155200
CREATED:20260124T124625Z
LAST-MODIFIED:20260126T162301Z
UID:4184-1779634800-1779640200@cheshamallotments.org.uk
SUMMARY:Afternoon Cafe
DESCRIPTION:
URL:https://cheshamallotments.org.uk/event/afternoon-cafe-24-may/
LOCATION:Allotment Cafe\, Cameron Road
CATEGORIES:Coffee afternoon
ATTACH;FMTTYPE=image/jpeg:https://cheshamallotments.org.uk/wp-content/uploads/coffee-mornings-header-1.jpg
END:VEVENT
BEGIN:VEVENT
DTSTART;TZID=UTC:20260531T150000
DTEND;TZID=UTC:20260531T163000
DTSTAMP:20260425T155200
CREATED:20260124T124625Z
LAST-MODIFIED:20260127T154106Z
UID:4204-1780239600-1780245000@cheshamallotments.org.uk
SUMMARY:Afternoon Cafe
DESCRIPTION:Join us for a cuppa and a choice of delicious homemade cakes \nNB: Asheridge Road for this week
URL:https://cheshamallotments.org.uk/event/afternoon-cafe-31-may-2/
LOCATION:Asheridge Road allotments
CATEGORIES:Coffee afternoon
ATTACH;FMTTYPE=image/jpeg:https://cheshamallotments.org.uk/wp-content/uploads/coffee-mornings-header-1.jpg
END:VEVENT
BEGIN:VEVENT
DTSTART;TZID=UTC:20260607T150000
DTEND;TZID=UTC:20260607T163000
DTSTAMP:20260425T155200
CREATED:20260124T124625Z
LAST-MODIFIED:20260127T154147Z
UID:4203-1780844400-1780849800@cheshamallotments.org.uk
SUMMARY:Afternoon Cafe
DESCRIPTION:Join us for a cuppa and a choice of delicious homemade cakes
URL:https://cheshamallotments.org.uk/event/afternoon-cafe-7-june/
LOCATION:Allotment Cafe\, Cameron Road
CATEGORIES:Coffee afternoon
ATTACH;FMTTYPE=image/jpeg:https://cheshamallotments.org.uk/wp-content/uploads/coffee-mornings-header-1.jpg
END:VEVENT
BEGIN:VEVENT
DTSTART;TZID=UTC:20260614T150000
DTEND;TZID=UTC:20260614T163000
DTSTAMP:20260425T155200
CREATED:20260124T124625Z
LAST-MODIFIED:20260127T154223Z
UID:4202-1781449200-1781454600@cheshamallotments.org.uk
SUMMARY:Afternoon Cafe
DESCRIPTION:Join us for a cuppa and a choice of delicious homemade cakes
URL:https://cheshamallotments.org.uk/event/afternoon-cafe-14-june/
LOCATION:Allotment Cafe\, Cameron Road
CATEGORIES:Coffee afternoon
ATTACH;FMTTYPE=image/jpeg:https://cheshamallotments.org.uk/wp-content/uploads/coffee-mornings-header-1.jpg
END:VEVENT
BEGIN:VEVENT
DTSTART;TZID=UTC:20260621T150000
DTEND;TZID=UTC:20260621T163000
DTSTAMP:20260425T155200
CREATED:20260124T124625Z
LAST-MODIFIED:20260127T154245Z
UID:4201-1782054000-1782059400@cheshamallotments.org.uk
SUMMARY:Afternoon Cafe
DESCRIPTION:Join us for a cuppa and a choice of delicious homemade cakes
URL:https://cheshamallotments.org.uk/event/afternoon-cafe-21-june/
LOCATION:Allotment Cafe\, Cameron Road
CATEGORIES:Coffee afternoon
ATTACH;FMTTYPE=image/jpeg:https://cheshamallotments.org.uk/wp-content/uploads/coffee-mornings-header-1.jpg
END:VEVENT
BEGIN:VEVENT
DTSTART;TZID=UTC:20260627T190000
DTEND;TZID=UTC:20260627T220000
DTSTAMP:20260425T155200
CREATED:20260124T131205Z
LAST-MODIFIED:20260124T131205Z
UID:4167-1782586800-1782597600@cheshamallotments.org.uk
SUMMARY:Cheese and Wine Evening - Cameron Road
DESCRIPTION:Save the date!   More details about our annual summer social will be available in from early spring\, but make sure the date is in your calendars…
URL:https://cheshamallotments.org.uk/event/cheese-and-wine-evening-cameron-road-2/
LOCATION:Allotment Cafe\, Cameron Road
CATEGORIES:Other events
ATTACH;FMTTYPE=image/jpeg:https://cheshamallotments.org.uk/wp-content/uploads/cheese-wine-2015-b.jpg
END:VEVENT
BEGIN:VEVENT
DTSTART;TZID=UTC:20260628T150000
DTEND;TZID=UTC:20260628T163000
DTSTAMP:20260425T155200
CREATED:20260124T124625Z
LAST-MODIFIED:20260127T154423Z
UID:4210-1782658800-1782664200@cheshamallotments.org.uk
SUMMARY:Afternoon Cafe
DESCRIPTION:NB No cafe this weekend\, due to summer social the day before
URL:https://cheshamallotments.org.uk/event/afternoon-cafe-28-june/
LOCATION:Allotment Cafe\, Cameron Road
CATEGORIES:Coffee afternoon
ATTACH;FMTTYPE=image/jpeg:https://cheshamallotments.org.uk/wp-content/uploads/coffee-mornings-header-1.jpg
END:VEVENT
BEGIN:VEVENT
DTSTART;TZID=UTC:20260705T150000
DTEND;TZID=UTC:20260705T163000
DTSTAMP:20260425T155200
CREATED:20260124T124625Z
LAST-MODIFIED:20260127T154601Z
UID:4213-1783263600-1783269000@cheshamallotments.org.uk
SUMMARY:Afternoon Cafe
DESCRIPTION:Join us for a cuppa and a choice of delicious homemade cakes
URL:https://cheshamallotments.org.uk/event/afternoon-cafe-5-july/
LOCATION:Allotment Cafe\, Cameron Road
CATEGORIES:Coffee afternoon
ATTACH;FMTTYPE=image/jpeg:https://cheshamallotments.org.uk/wp-content/uploads/coffee-mornings-header-1.jpg
END:VEVENT
BEGIN:VEVENT
DTSTART;TZID=UTC:20260712T150000
DTEND;TZID=UTC:20260712T163000
DTSTAMP:20260425T155200
CREATED:20260124T124625Z
LAST-MODIFIED:20260127T155617Z
UID:4238-1783868400-1783873800@cheshamallotments.org.uk
SUMMARY:Afternoon Cafe
DESCRIPTION:Join us for a cuppa and a choice of delicious homemade cakes \nNB Asheridge Road allotments this week!
URL:https://cheshamallotments.org.uk/event/afternoon-cafe-12-july/
LOCATION:Asheridge Road allotments
CATEGORIES:Coffee afternoon
ATTACH;FMTTYPE=image/jpeg:https://cheshamallotments.org.uk/wp-content/uploads/coffee-mornings-header-1.jpg
END:VEVENT
BEGIN:VEVENT
DTSTART;TZID=UTC:20260719T150000
DTEND;TZID=UTC:20260719T163000
DTSTAMP:20260425T155200
CREATED:20260124T124625Z
LAST-MODIFIED:20260127T154707Z
UID:4215-1784473200-1784478600@cheshamallotments.org.uk
SUMMARY:Afternoon Cafe
DESCRIPTION:Join us for a cuppa and a choice of delicious homemade cakes
URL:https://cheshamallotments.org.uk/event/afternoon-cafe-19-july/
LOCATION:Allotment Cafe\, Cameron Road
CATEGORIES:Coffee afternoon
ATTACH;FMTTYPE=image/jpeg:https://cheshamallotments.org.uk/wp-content/uploads/coffee-mornings-header-1.jpg
END:VEVENT
BEGIN:VEVENT
DTSTART;TZID=UTC:20260726T150000
DTEND;TZID=UTC:20260726T163000
DTSTAMP:20260425T155200
CREATED:20260124T124625Z
LAST-MODIFIED:20260127T154721Z
UID:4216-1785078000-1785083400@cheshamallotments.org.uk
SUMMARY:Afternoon Cafe
DESCRIPTION:Join us for a cuppa and a choice of delicious homemade cakes
URL:https://cheshamallotments.org.uk/event/afternoon-cafe-26-july/
LOCATION:Allotment Cafe\, Cameron Road
CATEGORIES:Coffee afternoon
ATTACH;FMTTYPE=image/jpeg:https://cheshamallotments.org.uk/wp-content/uploads/coffee-mornings-header-1.jpg
END:VEVENT
BEGIN:VEVENT
DTSTART;TZID=UTC:20260802T150000
DTEND;TZID=UTC:20260802T163000
DTSTAMP:20260425T155200
CREATED:20260124T124625Z
LAST-MODIFIED:20260127T155006Z
UID:4229-1785682800-1785688200@cheshamallotments.org.uk
SUMMARY:Afternoon Cafe
DESCRIPTION:Join us for a cuppa and a choice of delicious homemade cakes
URL:https://cheshamallotments.org.uk/event/afternoon-cafe-2-august/
LOCATION:Allotment Cafe\, Cameron Road
CATEGORIES:Coffee afternoon
ATTACH;FMTTYPE=image/jpeg:https://cheshamallotments.org.uk/wp-content/uploads/coffee-mornings-header-1.jpg
END:VEVENT
BEGIN:VEVENT
DTSTART;TZID=UTC:20260809T150000
DTEND;TZID=UTC:20260809T163000
DTSTAMP:20260425T155200
CREATED:20260124T124625Z
LAST-MODIFIED:20260127T155024Z
UID:4228-1786287600-1786293000@cheshamallotments.org.uk
SUMMARY:Afternoon Cafe
DESCRIPTION:Join us for a cuppa and a choice of delicious homemade cakes
URL:https://cheshamallotments.org.uk/event/afternoon-cafe-9-august/
LOCATION:Allotment Cafe\, Cameron Road
CATEGORIES:Coffee afternoon
ATTACH;FMTTYPE=image/jpeg:https://cheshamallotments.org.uk/wp-content/uploads/coffee-mornings-header-1.jpg
END:VEVENT
BEGIN:VEVENT
DTSTART;TZID=UTC:20260815T140000
DTEND;TZID=UTC:20260815T170000
DTSTAMP:20260425T155200
CREATED:20260124T131205Z
LAST-MODIFIED:20260126T154734Z
UID:4155-1786802400-1786813200@cheshamallotments.org.uk
SUMMARY:Open Afternoon 2026 - Cameron Road
DESCRIPTION:Our annual open day as part of National Allotments Week 2026
URL:https://cheshamallotments.org.uk/event/open-afternoon-2026-cameron-road/
LOCATION:Allotment Cafe\, Cameron Road
CATEGORIES:Other events
ATTACH;FMTTYPE=image/jpeg:https://cheshamallotments.org.uk/wp-content/uploads/IMG_2354.jpg
END:VEVENT
BEGIN:VEVENT
DTSTART;TZID=UTC:20260823T150000
DTEND;TZID=UTC:20260823T163000
DTSTAMP:20260425T155200
CREATED:20260124T124625Z
LAST-MODIFIED:20260127T155040Z
UID:4226-1787497200-1787502600@cheshamallotments.org.uk
SUMMARY:Afternoon Cafe
DESCRIPTION:Join us for a cuppa and a choice of delicious homemade cakes
URL:https://cheshamallotments.org.uk/event/afternoon-cafe-23-august/
LOCATION:Allotment Cafe\, Cameron Road
CATEGORIES:Coffee afternoon
ATTACH;FMTTYPE=image/jpeg:https://cheshamallotments.org.uk/wp-content/uploads/coffee-mornings-header-1.jpg
END:VEVENT
BEGIN:VEVENT
DTSTART;TZID=UTC:20260830T150000
DTEND;TZID=UTC:20260830T163000
DTSTAMP:20260425T155200
CREATED:20260124T124625Z
LAST-MODIFIED:20260127T155100Z
UID:4227-1788102000-1788107400@cheshamallotments.org.uk
SUMMARY:Afternoon Cafe
DESCRIPTION:Join us for a cuppa and a choice of delicious homemade cakes
URL:https://cheshamallotments.org.uk/event/afternoon-cafe-30-august/
LOCATION:Allotment Cafe\, Cameron Road
CATEGORIES:Coffee afternoon
ATTACH;FMTTYPE=image/jpeg:https://cheshamallotments.org.uk/wp-content/uploads/coffee-mornings-header-1.jpg
END:VEVENT
BEGIN:VEVENT
DTSTART;TZID=UTC:20260830T193000
DTEND;TZID=UTC:20260830T203000
DTSTAMP:20260425T155200
CREATED:20260124T124625Z
LAST-MODIFIED:20260127T155908Z
UID:4241-1788118200-1788121800@cheshamallotments.org.uk
SUMMARY:AGM 2026
DESCRIPTION:Our Annual General Meeting takes place\, with an opportunity for you to attend and put questions to the committee
URL:https://cheshamallotments.org.uk/event/agm-2026/
LOCATION:Chesham Town Hall
CATEGORIES:Meetings
ATTACH;FMTTYPE=image/jpeg:https://cheshamallotments.org.uk/wp-content/uploads/coffee-mornings-header-1.jpg
END:VEVENT
BEGIN:VEVENT
DTSTART;TZID=UTC:20260906T150000
DTEND;TZID=UTC:20260906T170000
DTSTAMP:20260425T155200
CREATED:20260124T131205Z
LAST-MODIFIED:20260126T154551Z
UID:4170-1788706800-1788714000@cheshamallotments.org.uk
SUMMARY:Cream Tea 2026
DESCRIPTION:Our ever popular and busy cream tea afternoon. More details will appear here later in 2026
URL:https://cheshamallotments.org.uk/event/cream-tea-2026/
LOCATION:Allotment Cafe\, Cameron Road
CATEGORIES:Other events
ATTACH;FMTTYPE=image/jpeg:https://cheshamallotments.org.uk/wp-content/uploads/IMG_4825.jpeg
END:VEVENT
BEGIN:VEVENT
DTSTART;TZID=UTC:20260913T150000
DTEND;TZID=UTC:20260913T163000
DTSTAMP:20260425T155200
CREATED:20260124T124625Z
LAST-MODIFIED:20260127T155238Z
UID:4234-1789311600-1789317000@cheshamallotments.org.uk
SUMMARY:Afternoon Cafe
DESCRIPTION:Join us for a cuppa and a choice of delicious homemade cakes \nNB Asheridge Road allotments this week!
URL:https://cheshamallotments.org.uk/event/afternoon-cafe-13-september/
LOCATION:Allotment Cafe\, Cameron Road
CATEGORIES:Coffee afternoon
ATTACH;FMTTYPE=image/jpeg:https://cheshamallotments.org.uk/wp-content/uploads/coffee-mornings-header-1.jpg
END:VEVENT
BEGIN:VEVENT
DTSTART;TZID=UTC:20260920T150000
DTEND;TZID=UTC:20260920T163000
DTSTAMP:20260425T155200
CREATED:20260124T124625Z
LAST-MODIFIED:20260127T155302Z
UID:4236-1789916400-1789921800@cheshamallotments.org.uk
SUMMARY:Afternoon Cafe
DESCRIPTION:Join us for a cuppa and a choice of delicious homemade cakes
URL:https://cheshamallotments.org.uk/event/afternoon-cafe-20-september/
LOCATION:Allotment Cafe\, Cameron Road
CATEGORIES:Coffee afternoon
ATTACH;FMTTYPE=image/jpeg:https://cheshamallotments.org.uk/wp-content/uploads/coffee-mornings-header-1.jpg
END:VEVENT
BEGIN:VEVENT
DTSTART;TZID=UTC:20260927T150000
DTEND;TZID=UTC:20260927T150000
DTSTAMP:20260425T155200
CREATED:20260124T124625Z
LAST-MODIFIED:20260124T131641Z
UID:4157-1790521200-1790521200@cheshamallotments.org.uk
SUMMARY:Last Cafe of 2026 - Cameron Road
DESCRIPTION:As the days turn a little nippier into October\, we put the cafe to bed for the season at the end of September – and then start counting down the weeks until it re-opens in 2027! \nJoin us for that last cuppa and cake
URL:https://cheshamallotments.org.uk/event/afternoon-cafe-cameron-road-2-2/
LOCATION:Allotment Cafe\, Cameron Road
ATTACH;FMTTYPE=image/jpeg:https://cheshamallotments.org.uk/wp-content/uploads/IMG_0892.jpg
END:VEVENT
BEGIN:VEVENT
DTSTART;TZID=UTC:20261003T193000
DTEND;TZID=UTC:20261003T220000
DTSTAMP:20260425T155200
CREATED:20241010T112057Z
LAST-MODIFIED:20260124T131804Z
UID:3934-1791055800-1791064800@cheshamallotments.org.uk
SUMMARY:Autumn quiz night and social
DESCRIPTION:Come and test your knowledge of all kinds of things gardening\, history\, TV and film\, culture\, music\, travel and the weird and wonderful. \nWhy not get together a team of your friends or family (or both!) and join us for a relaxed but mentally stimulating evening?! \nIt’s best to reserve a place by emailing cheshamallotments@gmail.com. Tickets are just £8 per person. Please bring your own drinks and snacks for the evening – note that alcohol is definitely allowed in the town hall (!) \n  \n  \n 
URL:https://cheshamallotments.org.uk/event/autumn-quiz-night-and-social-2026/
LOCATION:Chesham Town Hall
END:VEVENT
END:VCALENDAR