BEGIN:VCALENDAR
VERSION:2.0
PRODID:-//Chesham Allotments - ECPv6.1.3//NONSGML v1.0//EN
CALSCALE:GREGORIAN
METHOD:PUBLISH
X-WR-CALNAME:Chesham Allotments
X-ORIGINAL-URL:https://cheshamallotments.org.uk
X-WR-CALDESC:Events for Chesham Allotments
REFRESH-INTERVAL;VALUE=DURATION:PT1H
X-Robots-Tag:noindex
X-PUBLISHED-TTL:PT1H
BEGIN:VTIMEZONE
TZID:UTC
BEGIN:STANDARD
TZOFFSETFROM:+0000
TZOFFSETTO:+0000
TZNAME:UTC
DTSTART:20180101T000000
END:STANDARD
END:VTIMEZONE
BEGIN:VEVENT
DTSTART;TZID=UTC:20190928T100000
DTEND;TZID=UTC:20190928T120000
DTSTAMP:20260425T154359
CREATED:20180519T074333Z
LAST-MODIFIED:20191031T170257Z
UID:539-1569664800-1569672000@cheshamallotments.org.uk
SUMMARY:Macmillan Coffee Morning
DESCRIPTION:You are guaranteed a fabulous choice of cakes at our Macmillan coffee morning at Cameron Road allotments. We’ll be there come rain or shine!
URL:https://cheshamallotments.org.uk/event/macmillan-coffee-morning/
ATTACH;FMTTYPE=image/png:https://cheshamallotments.org.uk/wp-content/uploads/Macmillan-e1534283346276.png
END:VEVENT
BEGIN:VEVENT
DTSTART;TZID=UTC:20190907T100000
DTEND;TZID=UTC:20190907T120000
DTSTAMP:20260425T154359
CREATED:20190308T101442Z
LAST-MODIFIED:20191031T170301Z
UID:971-1567850400-1567857600@cheshamallotments.org.uk
SUMMARY:Spud in the bucket competition
DESCRIPTION:Bring your bucket along to the coffee morning on Saturday 7th September 2019\, where it will be emptied\nand the potato yield weighed. Competitors are responsible for taking away their bucket\, compost and\npotatoes. Entry fee is £1 per bucket. You can enter as many buckets as you want : perhaps try different ;
URL:https://cheshamallotments.org.uk/event/spud-in-the-bucket-competition/
END:VEVENT
BEGIN:VEVENT
DTSTART;TZID=UTC:20190817T100000
DTEND;TZID=UTC:20190817T130000
DTSTAMP:20260425T154359
CREATED:20190719T072031Z
LAST-MODIFIED:20191031T170257Z
UID:528-1566036000-1566046800@cheshamallotments.org.uk
SUMMARY:Open Day - public welcome
DESCRIPTION:Visitors of all ages are most welcome to our annual open day. Our produce will be for sale at very reasonable prices; there will be a fantastic choice of home made cakes\, and raffle.
URL:https://cheshamallotments.org.uk/event/open-day-public-welcome/
CATEGORIES:Other events
ATTACH;FMTTYPE=image/jpeg:https://cheshamallotments.org.uk/wp-content/uploads/open-day-2016-cropped.jpg
END:VEVENT
BEGIN:VEVENT
DTSTART;TZID=UTC:20190622T100000
DTEND;TZID=UTC:20190622T100000
DTSTAMP:20260425T154359
CREATED:20180504T130405Z
LAST-MODIFIED:20191031T170256Z
UID:456-1561197600-1561197600@cheshamallotments.org.uk
SUMMARY:Coffee morning Asheridge Road
DESCRIPTION:
URL:https://cheshamallotments.org.uk/event/coffee-morning-asheridge-road/
LOCATION:Asheridge Road allotments
CATEGORIES:Other events
END:VEVENT
BEGIN:VEVENT
DTSTART;TZID=UTC:20190413T100000
DTEND;TZID=UTC:20190413T120000
DTSTAMP:20260425T154359
CREATED:20190308T100149Z
LAST-MODIFIED:20191031T170301Z
UID:969-1555149600-1555156800@cheshamallotments.org.uk
SUMMARY:First coffee morning of the summer season
DESCRIPTION:We are looking forward to another year of great homemade cakes served with coffee and a beautiful view across the allotments and Chesham. Occasionally rainy and inclement but mostly stoically enjoyable\, Saturday mornings at the Focal Point are a great way to get to know other allotmenteers\, share tips and some times plants and produce. Anyone is welcome\, whether they have a plot or not. Why not arrange to meet friends there too? \nThe bonhomie is only made possible by the hard work of the volunteers. This year our new Allotment Café Coordinator is Averil Savage. Please show your support by volunteering for a morning in the Hut (not onerous\, especially now we have a working generator) or by making a cake or two.\nPlease contact Averil if you can help. \n 
URL:https://cheshamallotments.org.uk/event/first-coffee-morning-of-the-summer-season/
END:VEVENT
BEGIN:VEVENT
DTSTART;TZID=UTC:20181204T193000
DTEND;TZID=UTC:20181204T213000
DTSTAMP:20260425T154359
CREATED:20180519T074843Z
LAST-MODIFIED:20191031T170257Z
UID:547-1543951800-1543959000@cheshamallotments.org.uk
SUMMARY:CAG representatives meeting
DESCRIPTION:
URL:https://cheshamallotments.org.uk/event/cag-representatives-meeting-3/
LOCATION:Chesham Town Hall
END:VEVENT
BEGIN:VEVENT
DTSTART;TZID=UTC:20181002T193000
DTEND;TZID=UTC:20181002T213000
DTSTAMP:20260425T154359
CREATED:20180519T074516Z
LAST-MODIFIED:20191031T170257Z
UID:541-1538508600-1538515800@cheshamallotments.org.uk
SUMMARY:AGM
DESCRIPTION:All tenants welcome- do come along with your suggestions or comments\, or feel free to listen in.
URL:https://cheshamallotments.org.uk/event/agm/
LOCATION:Chesham Town Hall
END:VEVENT
BEGIN:VEVENT
DTSTART;TZID=UTC:20180921T090000
DTEND;TZID=UTC:20180921T130000
DTSTAMP:20260425T154359
CREATED:20180519T073828Z
LAST-MODIFIED:20191031T170257Z
UID:536-1537520400-1537534800@cheshamallotments.org.uk
SUMMARY:Follow-up to council allotment inspection
DESCRIPTION:
URL:https://cheshamallotments.org.uk/event/follow-up-to-council-allotment-inspection/
END:VEVENT
BEGIN:VEVENT
DTSTART;TZID=UTC:20180908T100000
DTEND;TZID=UTC:20180908T120000
DTSTAMP:20260425T154359
CREATED:20180519T073559Z
LAST-MODIFIED:20191031T170257Z
UID:532-1536400800-1536408000@cheshamallotments.org.uk
SUMMARY:Fairtrade Coffee morning and Spud in a Bucket competition
DESCRIPTION:
URL:https://cheshamallotments.org.uk/event/fairtrade-coffee-morning/
ATTACH;FMTTYPE=image/jpeg:https://cheshamallotments.org.uk/wp-content/uploads/fairtrade-chesham-twitter-header.jpg
END:VEVENT
BEGIN:VEVENT
DTSTART;TZID=UTC:20180904T193000
DTEND;TZID=UTC:20180904T213000
DTSTAMP:20260425T154359
CREATED:20180519T073316Z
LAST-MODIFIED:20191031T170257Z
UID:530-1536089400-1536096600@cheshamallotments.org.uk
SUMMARY:CAG representatives meeting /AGM prep
DESCRIPTION:
URL:https://cheshamallotments.org.uk/event/cag-representatives-meeting-agm-prep/
LOCATION:Chesham Town Hall
END:VEVENT
BEGIN:VEVENT
DTSTART;TZID=UTC:20180825T100000
DTEND;TZID=UTC:20180825T120000
DTSTAMP:20260425T154359
CREATED:20180504T131152Z
LAST-MODIFIED:20191031T170256Z
UID:462-1535191200-1535198400@cheshamallotments.org.uk
SUMMARY:Coffee morning Asheridge Road
DESCRIPTION:
URL:https://cheshamallotments.org.uk/event/coffee-morning-asheridge-road-2/
LOCATION:Asheridge Road allotments
CATEGORIES:Other events
END:VEVENT
BEGIN:VEVENT
DTSTART;TZID=UTC:20180810T080000
DTEND;TZID=UTC:20180810T130000
DTSTAMP:20260425T154359
CREATED:20180519T071700Z
LAST-MODIFIED:20191031T170257Z
UID:526-1533888000-1533906000@cheshamallotments.org.uk
SUMMARY:Allotment inspection
DESCRIPTION:
URL:https://cheshamallotments.org.uk/event/allotment-inspection/
END:VEVENT
BEGIN:VEVENT
DTSTART;TZID=UTC:20180710T193000
DTEND;TZID=UTC:20180710T213000
DTSTAMP:20260425T154359
CREATED:20180519T071438Z
LAST-MODIFIED:20191031T170257Z
UID:524-1531251000-1531258200@cheshamallotments.org.uk
SUMMARY:CAG representatives meeting
DESCRIPTION:
URL:https://cheshamallotments.org.uk/event/cag-representatives-meeting-2/
LOCATION:Chesham Town Hall
END:VEVENT
BEGIN:VEVENT
DTSTART;TZID=UTC:20180615T090000
DTEND;TZID=UTC:20180615T130000
DTSTAMP:20260425T154359
CREATED:20180514T214806Z
LAST-MODIFIED:20191031T170257Z
UID:518-1529053200-1529067600@cheshamallotments.org.uk
SUMMARY:Follow-up to allotment inspection
DESCRIPTION:
URL:https://cheshamallotments.org.uk/event/follow-up-to-allotment-inspection/
END:VEVENT
BEGIN:VEVENT
DTSTART;TZID=UTC:20180612T193000
DTEND;TZID=UTC:20180612T213000
DTSTAMP:20260425T154359
CREATED:20180514T214647Z
LAST-MODIFIED:20191031T170255Z
UID:516-1528831800-1528839000@cheshamallotments.org.uk
SUMMARY:CAG Representatives Meeting
DESCRIPTION:
URL:https://cheshamallotments.org.uk/event/cag-representatives-meeting/
LOCATION:Chesham Town Hall
END:VEVENT
BEGIN:VEVENT
DTSTART;TZID=UTC:20180602T100000
DTEND;TZID=UTC:20180602T120000
DTSTAMP:20260425T154359
CREATED:20180514T214535Z
LAST-MODIFIED:20191031T170254Z
UID:514-1527933600-1527940800@cheshamallotments.org.uk
SUMMARY:Coffee morning – Chesham in Bloom
DESCRIPTION:
URL:https://cheshamallotments.org.uk/event/coffee-morning-chesham-in-bloom/
END:VEVENT
BEGIN:VEVENT
DTSTART;TZID=UTC:20180519T190000
DTEND;TZID=UTC:20180519T223000
DTSTAMP:20260425T154359
CREATED:20180401T121009Z
LAST-MODIFIED:20191031T170256Z
UID:253-1526756400-1526769000@cheshamallotments.org.uk
SUMMARY:Fish & Chip / Quiz Night
DESCRIPTION:Our popular annual Fish & Chip/Quiz Night for allotment holders will be on Saturday 19 May\, at 7pm\, Chesham Town Hall. \n£10 per head. \n\nPlease bring your own drink and nibbles AND a dessert with a view to sharing. \nThere will be a raffle\, so bring some extra cash! Contributions for raffle also gratefully received.  If you would like to come along please contact us via the contact form stating your plot number to reserve your place; and we’ll be in touch to confirm. Alternatively drop into JPS Stationers\, or see us at one of our coffee mornings from 14 April.
URL:https://cheshamallotments.org.uk/event/fish-chip-quiz-night/
LOCATION:Chesham Town Hall
END:VEVENT
BEGIN:VEVENT
DTSTART;TZID=UTC:20180519T100000
DTEND;TZID=UTC:20180519T120000
DTSTAMP:20260425T154359
CREATED:20180401T124448Z
LAST-MODIFIED:20191031T170256Z
UID:265-1526724000-1526731200@cheshamallotments.org.uk
SUMMARY:Coffee morning Cameron Road
DESCRIPTION:All welcome to our coffee mornings on Saturdays through the summer season\, 10am-12pm. Home made cake and a hot drink for just £1. On 23 June and 25 August the coffee morning will be held at Asheridge Road allotments.
URL:https://cheshamallotments.org.uk/event/coffee-morning/
END:VEVENT
BEGIN:VEVENT
DTSTART;TZID=UTC:20180519T090000
DTEND;TZID=UTC:20180519T120000
DTSTAMP:20260425T154359
CREATED:20180401T122926Z
LAST-MODIFIED:20191031T170256Z
UID:261-1526720400-1526731200@cheshamallotments.org.uk
SUMMARY:Chesham Horticultural Society plant sale
DESCRIPTION:Plant Sale – Saturday 19th May\, United Reformed Church\, Chesham 9am–12pm.
URL:https://cheshamallotments.org.uk/event/chesham-horticultural-society-plant-sale/
LOCATION:United Reformed Church\, 75 The Broadway\, Chesham\, HP5 1BX\, United Kingdom
ATTACH;FMTTYPE=image/jpeg:https://cheshamallotments.org.uk/wp-content/uploads/winter-pansies-pots-plant-sale-chesham.jpg
END:VEVENT
BEGIN:VEVENT
DTSTART;TZID=UTC:20180421T100000
DTEND;TZID=UTC:20180421T120000
DTSTAMP:20260425T154359
CREATED:20180401T143516Z
LAST-MODIFIED:20191031T170256Z
UID:275-1524304800-1524312000@cheshamallotments.org.uk
SUMMARY:Coffee morning
DESCRIPTION:All welcome to our coffee mornings on Saturdays through the summer season\, 10am-12pm. Home made cake and a hot drink for just £1.
URL:https://cheshamallotments.org.uk/event/coffee-morning-2/
ATTACH;FMTTYPE=image/jpeg:https://cheshamallotments.org.uk/wp-content/uploads/first-coffee-morning-2018-cameron-road-wide.jpg
END:VEVENT
END:VCALENDAR