BEGIN:VCALENDAR
VERSION:2.0
PRODID:-//Chesham Allotments - ECPv6.1.3//NONSGML v1.0//EN
CALSCALE:GREGORIAN
METHOD:PUBLISH
X-WR-CALNAME:Chesham Allotments
X-ORIGINAL-URL:https://cheshamallotments.org.uk
X-WR-CALDESC:Events for Chesham Allotments
REFRESH-INTERVAL;VALUE=DURATION:PT1H
X-Robots-Tag:noindex
X-PUBLISHED-TTL:PT1H
BEGIN:VTIMEZONE
TZID:UTC
BEGIN:STANDARD
TZOFFSETFROM:+0000
TZOFFSETTO:+0000
TZNAME:UTC
DTSTART:20180101T000000
END:STANDARD
END:VTIMEZONE
BEGIN:VEVENT
DTSTART;TZID=UTC:20180421T100000
DTEND;TZID=UTC:20180421T120000
DTSTAMP:20260425T161843
CREATED:20180401T143516Z
LAST-MODIFIED:20191031T170256Z
UID:275-1524304800-1524312000@cheshamallotments.org.uk
SUMMARY:Coffee morning
DESCRIPTION:All welcome to our coffee mornings on Saturdays through the summer season\, 10am-12pm. Home made cake and a hot drink for just £1.
URL:https://cheshamallotments.org.uk/event/coffee-morning-2/
ATTACH;FMTTYPE=image/jpeg:https://cheshamallotments.org.uk/wp-content/uploads/first-coffee-morning-2018-cameron-road-wide.jpg
END:VEVENT
END:VCALENDAR