BEGIN:VCALENDAR
VERSION:2.0
PRODID:-//Chesham Allotments - ECPv6.1.3//NONSGML v1.0//EN
CALSCALE:GREGORIAN
METHOD:PUBLISH
X-ORIGINAL-URL:https://cheshamallotments.org.uk
X-WR-CALDESC:Events for Chesham Allotments
REFRESH-INTERVAL;VALUE=DURATION:PT1H
X-Robots-Tag:noindex
X-PUBLISHED-TTL:PT1H
BEGIN:VTIMEZONE
TZID:UTC
BEGIN:STANDARD
TZOFFSETFROM:+0000
TZOFFSETTO:+0000
TZNAME:UTC
DTSTART:20260101T000000
END:STANDARD
END:VTIMEZONE
BEGIN:VEVENT
DTSTART;TZID=UTC:20260307T100000
DTEND;TZID=UTC:20260307T120000
DTSTAMP:20260424T162414
CREATED:20241122T154323Z
LAST-MODIFIED:20260127T162344Z
UID:4244-1772877600-1772884800@cheshamallotments.org.uk
SUMMARY:Potato sales 2026
DESCRIPTION:Chesham Vale Gardeners’ Society (CVGS) will be selling a selection of seed potatoes\, onion sets and shallots\, plus an assortment of other gardening items. \nYou’ll find the trading hut close to the allotment cafe at Cameron Road. \nPlease note that you need to be a member of CVGS to make a purchase. Annual membership is £3. \nVolunteers from CVGS will run the cafe this weekend.
URL:https://cheshamallotments.org.uk/event/potato-sales-2026-7-march/
LOCATION:Allotment Cafe\, Cameron Road
CATEGORIES:Coffee Morning,Other events
ATTACH;FMTTYPE=image/jpeg:https://cheshamallotments.org.uk/wp-content/uploads/potatoes-in-hands-web.jpg
ORGANIZER;CN="Chesham%20Allotments%20Group%20in%20association%20with%20Chesham%20Vale%20Gardeners%27%20Society":MAILTO:cheshamallotments@gmail.com
END:VEVENT
END:VCALENDAR